BEGIN:VCALENDAR
VERSION:2.0
PRODID:-//A+ Children&#039;s Academy - ECPv5.16.4//NONSGML v1.0//EN
CALSCALE:GREGORIAN
METHOD:PUBLISH
X-WR-CALNAME:A+ Children&#039;s Academy
X-ORIGINAL-URL:https://apcacad.org
X-WR-CALDESC:Events for A+ Children&#039;s Academy
BEGIN:VTIMEZONE
TZID:America/New_York
BEGIN:DAYLIGHT
TZOFFSETFROM:-0500
TZOFFSETTO:-0400
TZNAME:EDT
DTSTART:20270314T070000
END:DAYLIGHT
BEGIN:STANDARD
TZOFFSETFROM:-0400
TZOFFSETTO:-0500
TZNAME:EST
DTSTART:20271107T060000
END:STANDARD
END:VTIMEZONE
BEGIN:VEVENT
DTSTART;VALUE=DATE:20270520
DTEND;VALUE=DATE:20270521
DTSTAMP:20260424T082849
CREATED:20260323T154053Z
LAST-MODIFIED:20260323T154053Z
UID:9740-1810771200-1810857599@apcacad.org
SUMMARY:Last Day of School for All Students
DESCRIPTION:
URL:https://apcacad.org/event/last-day-of-school-for-all-students/
LOCATION:A+ Children’s Academy\, 2633 Maybury Road\, Columbus\, OH\, 43232\, United States
CATEGORIES:Calendar Only
END:VEVENT
END:VCALENDAR